BEGIN:VCALENDAR
VERSION:2.0
PRODID:-//The Davisverse - ECPv6.15.20//NONSGML v1.0//EN
CALSCALE:GREGORIAN
METHOD:PUBLISH
X-WR-CALNAME:The Davisverse
X-ORIGINAL-URL:https://thedavisverse.com
X-WR-CALDESC:Events for The Davisverse
REFRESH-INTERVAL;VALUE=DURATION:PT1H
X-Robots-Tag:noindex
X-PUBLISHED-TTL:PT1H
BEGIN:VTIMEZONE
TZID:UTC
BEGIN:STANDARD
TZOFFSETFROM:+0000
TZOFFSETTO:+0000
TZNAME:UTC
DTSTART:20250101T000000
END:STANDARD
END:VTIMEZONE
BEGIN:VEVENT
DTSTART;TZID=UTC:20260228T130000
DTEND;TZID=UTC:20260228T150000
DTSTAMP:20260425T084611
CREATED:20260222T003055Z
LAST-MODIFIED:20260222T003055Z
UID:2239-1772283600-1772290800@thedavisverse.com
SUMMARY:Book Signing
DESCRIPTION:
URL:https://thedavisverse.com/event/book-signing/
LOCATION:The Romantics Archive\, 290 25th St Ste 101\, Ogden\, UT
END:VEVENT
END:VCALENDAR